BEGIN:VCALENDAR
VERSION:2.0
PRODID:-//eventon.com NONSGML v1.0//EN
CALSCALE:GREGORIAN
METHOD:PUBLISH
BEGIN:VEVENT
UID:69eb7bc6bf3a1
DTSTAMP:20260424T141846Z
DTSTART:20260228T200000Z
DTEND:20260228T235900Z
LOCATION:Vereinsheim Atzing
SUMMARY:Jahreshauptversammlung
DESCRIPTION:Die Jahreshauptsversammlung 2025 findet am 28.02.2026 im Verein
 sheim Atzing statt. Tagesordnung TOP 1 Begrüßung TOP 2 Totengedenken TOP 
 3 Bericht des Schriftführers TOP 4 Bericht des Kassiers und Entlastung der
  Vorstandschaft TOP 5 Bericht des Vorstandes TOP 6 Bericht des Kommandanten
  TOP 7 Jugendarbeit TOP 8 Neuwahlen TOP 9 Grußworte\, [..]\nhttps://feuerw
 ehr-atzing.de/events/jahreshauptversammlung/
URL:https://feuerwehr-atzing.de/events/jahreshauptversammlung/
END:VEVENT
END:VCALENDAR