BEGIN:VCALENDAR
VERSION:2.0
PRODID:-//eventon.com NONSGML v1.0//EN
CALSCALE:GREGORIAN
METHOD:PUBLISH
BEGIN:VEVENT
UID:69e72fbd49c51
DTSTAMP:20260421T080517Z
DTSTART:20191207T193000Z
DTEND:20191207T235000Z
LOCATION:Gasthof Stocker Atzing
SUMMARY:Weihnachtsfeier (geschlossene Veranstaltung)
DESCRIPTION:Weihnachtsfeier (geschlossene Veranstaltung)\nhttps://feuerwehr
 -atzing.de/events/weihnachtsfeier-geschlossene-veranstaltung/
URL:https://feuerwehr-atzing.de/events/weihnachtsfeier-geschlossene-veranstaltung/
END:VEVENT
END:VCALENDAR