BEGIN:VCALENDAR
VERSION:2.0
PRODID:-//eventon.com NONSGML v1.0//EN
CALSCALE:GREGORIAN
METHOD:PUBLISH
BEGIN:VEVENT
UID:69eb7c1e20cac
DTSTAMP:20260424T142014Z
DTSTART:20250611T184500Z
DTEND:20250611T201500Z
LOCATION:Feuerwehrhaus Atzing
SUMMARY:Übung-Jugend
DESCRIPTION:Übung der Jugendfeuerwehr am Feuerwehrhaus\nhttps://feuerwehr-
 atzing.de/events/uebung-jugend-copy/var/ri-2.l-L1
URL:https://feuerwehr-atzing.de/events/uebung-jugend-copy/var/ri-2.l-L1
END:VEVENT
END:VCALENDAR