BEGIN:VCALENDAR
VERSION:2.0
PRODID:-//eventon.com NONSGML v1.0//EN
CALSCALE:GREGORIAN
METHOD:PUBLISH
BEGIN:VEVENT
UID:69eb7c3ca0740
DTSTAMP:20260424T142044Z
DTSTART:20250528T184500Z
DTEND:20250528T201500Z
LOCATION:Feuerwehrhaus Atzing
SUMMARY:Übung-Jugend
DESCRIPTION:Übung der Jugendfeuerwehr am Feuerwehrhaus\nhttps://feuerwehr-
 atzing.de/events/uebung-jugend-copy/var/ri-1.l-L1
URL:https://feuerwehr-atzing.de/events/uebung-jugend-copy/var/ri-1.l-L1
END:VEVENT
END:VCALENDAR