BEGIN:VCALENDAR
VERSION:2.0
PRODID:-//eventon.com NONSGML v1.0//EN
CALSCALE:GREGORIAN
METHOD:PUBLISH
BEGIN:VEVENT
UID:69eb6b492ee74
DTSTAMP:20260424T130825Z
DTSTART:20250423T184500Z
DTEND:20250423T201500Z
LOCATION:Feuerwehrhaus Atzing
SUMMARY:Übung-Jugend
DESCRIPTION:Übung der Jugendfeuerwehr am Feuerwehrhaus\nhttps://feuerwehr-
 atzing.de/events/uebung-jugendfeuerwehr/var/ri-5.l-L1
URL:https://feuerwehr-atzing.de/events/uebung-jugendfeuerwehr/var/ri-5.l-L1
END:VEVENT
END:VCALENDAR