BEGIN:VCALENDAR
VERSION:2.0
PRODID:-//eventon.com NONSGML v1.0//EN
CALSCALE:GREGORIAN
METHOD:PUBLISH
BEGIN:VEVENT
UID:69eb6b5179b9d
DTSTAMP:20260424T130833Z
DTSTART:20260525T100000Z
DTEND:20260525T235900Z
LOCATION:Feuerwehrhaus Atzing
SUMMARY:Familienfrühschoppen
DESCRIPTION:Musikalischer Frühschoppen &nbsp;\nhttps://feuerwehr-atzing.de
 /events/musikalischer-fruehschoppen-2024/
URL:https://feuerwehr-atzing.de/events/musikalischer-fruehschoppen-2024/
END:VEVENT
END:VCALENDAR