BEGIN:VCALENDAR
VERSION:2.0
PRODID:-//eventon.com NONSGML v1.0//EN
CALSCALE:GREGORIAN
METHOD:PUBLISH
BEGIN:VEVENT
UID:69eb6a0fe613c
DTSTAMP:20260424T130311Z
DTSTART:20260401T193000Z
DTEND:20260401T210000Z
LOCATION:Feuerwehrhaus Atzing
SUMMARY:Monatsübung
DESCRIPTION:Monatsübung\nhttps://feuerwehr-atzing.de/events/monatsuebung/v
 ar/ri-3.l-L1
URL:https://feuerwehr-atzing.de/events/monatsuebung/var/ri-3.l-L1
END:VEVENT
END:VCALENDAR