BEGIN:VCALENDAR
VERSION:2.0
PRODID:-//eventon.com NONSGML v1.0//EN
CALSCALE:GREGORIAN
METHOD:PUBLISH
BEGIN:VEVENT
UID:69eb7c3cd19ad
DTSTAMP:20260424T142044Z
DTSTART:20261104T193000Z
DTEND:20261104T210000Z
LOCATION:Feuerwehrhaus Atzing
SUMMARY:Monatsübung
DESCRIPTION:Monatsübung\nhttps://feuerwehr-atzing.de/events/monatsuebung/v
 ar/ri-10.l-L1
URL:https://feuerwehr-atzing.de/events/monatsuebung/var/ri-10.l-L1
END:VEVENT
END:VCALENDAR