BEGIN:VCALENDAR
VERSION:2.0
PRODID:-//eventon.com NONSGML v1.0//EN
CALSCALE:GREGORIAN
METHOD:PUBLISH
BEGIN:VEVENT
UID:69eb6a62cb4c0
DTSTAMP:20260424T130434Z
DTSTART:20260107T193000Z
DTEND:20260107T210000Z
LOCATION:Feuerwehrhaus Atzing
SUMMARY:Monatsübung
DESCRIPTION:Monatsübung\nhttps://feuerwehr-atzing.de/events/monatsuebung/
URL:https://feuerwehr-atzing.de/events/monatsuebung/
END:VEVENT
END:VCALENDAR